BEGIN:VCALENDAR
VERSION:2.0
CALSCALE:GREGORIAN
PRODID:-//Diputació de Barcelona//DibaCMS//EN
BEGIN:VEVENT
UID:5953
DTSTAMP:20260423T133317
DTSTART:20110620T210000
DTEND:20110620T000000
SUMMARY:Xerrada: Acompanyar infants i famílies en el canvi. Per una bona acollida a l'escola
LOCATION:
METHOD:PUBLISH
X-WR-CALNAME:caldesm@caldesdemontbui.cat
X-WR-TIMEZONE:Europe/Madrid
DESCRIPTION:
URI:https://www.caldesdemontbui.cat/actualitat/agenda/xerrada-acompanyar-infants-i-families-en-el-canvi-per-una-bona-acollida-a-lescola.html
CLASS:PUBLIC
END:VEVENT
END:VCALENDAR
