BEGIN:VCALENDAR
VERSION:2.0
CALSCALE:GREGORIAN
PRODID:-//Diputació de Barcelona//DibaCMS//EN
BEGIN:VEVENT
UID:5952
DTSTAMP:20260423T042048
DTSTART:20110620T180000
DTEND:20110620T000000
SUMMARY:El Consell d'Infants de Caldes de Montbui s'adreça a la població
LOCATION:
METHOD:PUBLISH
X-WR-CALNAME:caldesm@caldesdemontbui.cat
X-WR-TIMEZONE:Europe/Madrid
DESCRIPTION:
URI:https://www.caldesdemontbui.cat/actualitat/agenda/el-consell-dinfants-de-caldes-de-montbui-sadreca-a-la-poblacio.html
CLASS:PUBLIC
END:VEVENT
END:VCALENDAR
