BEGIN:VCALENDAR
VERSION:2.0
CALSCALE:GREGORIAN
PRODID:-//Diputació de Barcelona//DibaCMS//EN
BEGIN:VEVENT
UID:5950
DTSTAMP:20260423T042621
DTSTART:20110619T100000
DTEND:20110619T210000
SUMMARY:Fira Botiga
LOCATION:
METHOD:PUBLISH
X-WR-CALNAME:caldesm@caldesdemontbui.cat
X-WR-TIMEZONE:Europe/Madrid
DESCRIPTION:
URI:https://www.caldesdemontbui.cat/actualitat/agenda/fira-botiga-2011.html
CLASS:PUBLIC
END:VEVENT
END:VCALENDAR
