BEGIN:VCALENDAR
VERSION:2.0
CALSCALE:GREGORIAN
PRODID:-//Diputació de Barcelona//DibaCMS//EN
BEGIN:VEVENT
UID:5949
DTSTAMP:20260423T133158
DTSTART:20110618T223000
DTEND:20110618T000000
SUMMARY:Jornades gastronòmiques de les cireres: sopar concert a la Bóta de Caldes
LOCATION:
METHOD:PUBLISH
X-WR-CALNAME:caldesm@caldesdemontbui.cat
X-WR-TIMEZONE:Europe/Madrid
DESCRIPTION:
URI:https://www.caldesdemontbui.cat/actualitat/agenda/jornades-gastronomiques-de-les-cireres-sopar-concert-a-la-bota-de-caldes.html
CLASS:PUBLIC
END:VEVENT
END:VCALENDAR
