BEGIN:VCALENDAR
VERSION:2.0
CALSCALE:GREGORIAN
PRODID:-//Diputació de Barcelona//DibaCMS//EN
BEGIN:VEVENT
UID:5948
DTSTAMP:20260423T223544
DTSTART:20110618T200000
DTEND:20110618T000000
SUMMARY:Festa solidària de l'Associació d'Amics del Poble Marroquí
LOCATION:
METHOD:PUBLISH
X-WR-CALNAME:caldesm@caldesdemontbui.cat
X-WR-TIMEZONE:Europe/Madrid
DESCRIPTION:
URI:https://www.caldesdemontbui.cat/actualitat/agenda/festa-solidaria-de-lassociacio-damics-del-poble-marroqui.html
CLASS:PUBLIC
END:VEVENT
END:VCALENDAR
