BEGIN:VCALENDAR
VERSION:2.0
CALSCALE:GREGORIAN
PRODID:-//Diputació de Barcelona//DibaCMS//EN
BEGIN:VEVENT
UID:5946
DTSTAMP:20260423T080629
DTSTART:20110618T160000
DTEND:20110618T000000
SUMMARY:Festival de patinantge artístic
LOCATION:
METHOD:PUBLISH
X-WR-CALNAME:caldesm@caldesdemontbui.cat
X-WR-TIMEZONE:Europe/Madrid
DESCRIPTION:
URI:https://www.caldesdemontbui.cat/actualitat/agenda/festival-de-patinantge-artistic.html
CLASS:PUBLIC
END:VEVENT
END:VCALENDAR
