BEGIN:VCALENDAR
VERSION:2.0
CALSCALE:GREGORIAN
PRODID:-//Diputació de Barcelona//DibaCMS//EN
BEGIN:VEVENT
UID:5945
DTSTAMP:20260424T022705
DTSTART:20110618T113000
DTEND:20110618T000000
SUMMARY:Concert de corals i orquestres de l'Escola
LOCATION:
METHOD:PUBLISH
X-WR-CALNAME:caldesm@caldesdemontbui.cat
X-WR-TIMEZONE:Europe/Madrid
DESCRIPTION:
URI:https://www.caldesdemontbui.cat/actualitat/agenda/concert-de-corals-i-orquestres-de-lescola.html
CLASS:PUBLIC
END:VEVENT
END:VCALENDAR
