BEGIN:VCALENDAR
VERSION:2.0
CALSCALE:GREGORIAN
PRODID:-//Diputació de Barcelona//DibaCMS//EN
BEGIN:VEVENT
UID:5941
DTSTAMP:20260423T110928
DTSTART:20110617T193000
DTEND:20110617T000000
SUMMARY:Xerrada: El Top manta solidari i els discapacitats a Burkina Faso
LOCATION:
METHOD:PUBLISH
X-WR-CALNAME:caldesm@caldesdemontbui.cat
X-WR-TIMEZONE:Europe/Madrid
DESCRIPTION:
URI:https://www.caldesdemontbui.cat/actualitat/agenda/xerrada-el-top-manta-solidari-i-els-discapacitats-a-burkina-faso.html
CLASS:PUBLIC
END:VEVENT
END:VCALENDAR
