BEGIN:VCALENDAR
VERSION:2.0
CALSCALE:GREGORIAN
PRODID:-//Diputació de Barcelona//DibaCMS//EN
BEGIN:VEVENT
UID:5939
DTSTAMP:20260423T040106
DTSTART:20110616T193000
DTEND:20110616T000000
SUMMARY:Cicle de xerrades "Persona, família i societat". Les conductes addictives
LOCATION:
METHOD:PUBLISH
X-WR-CALNAME:caldesm@caldesdemontbui.cat
X-WR-TIMEZONE:Europe/Madrid
DESCRIPTION:
URI:https://www.caldesdemontbui.cat/actualitat/agenda/cicle-de-xerrades-persona-familia-i-societat-les-conductes-addictives.html
CLASS:PUBLIC
END:VEVENT
END:VCALENDAR
