BEGIN:VCALENDAR
VERSION:2.0
CALSCALE:GREGORIAN
PRODID:-//Diputació de Barcelona//DibaCMS//EN
BEGIN:VEVENT
UID:5938
DTSTAMP:20260423T124303
DTSTART:20110615T160000
DTEND:20110615T000000
SUMMARY:Xerrada: Català a l'abast, a càrrec de Montserrat Canyameres
LOCATION:
METHOD:PUBLISH
X-WR-CALNAME:caldesm@caldesdemontbui.cat
X-WR-TIMEZONE:Europe/Madrid
DESCRIPTION:
URI:https://www.caldesdemontbui.cat/actualitat/agenda/xerrada-catala-a-labast-a-carrec-de-montserrat-canyameres.html
CLASS:PUBLIC
END:VEVENT
END:VCALENDAR
