BEGIN:VCALENDAR
VERSION:2.0
CALSCALE:GREGORIAN
PRODID:-//Diputació de Barcelona//DibaCMS//EN
BEGIN:VEVENT
UID:5937
DTSTAMP:20260423T124227
DTSTART:20110615T080000
DTEND:20110615T000000
SUMMARY:Caminada al Castell de Montbui 
LOCATION:
METHOD:PUBLISH
X-WR-CALNAME:caldesm@caldesdemontbui.cat
X-WR-TIMEZONE:Europe/Madrid
DESCRIPTION:
URI:https://www.caldesdemontbui.cat/actualitat/agenda/caminada-al-castell-de-montbui-.html
CLASS:PUBLIC
END:VEVENT
END:VCALENDAR
