BEGIN:VCALENDAR
VERSION:2.0
CALSCALE:GREGORIAN
PRODID:-//Diputació de Barcelona//DibaCMS//EN
BEGIN:VEVENT
UID:5936
DTSTAMP:20260424T052340
DTSTART:20110615T080000
DTEND:20110615T000000
SUMMARY:Caminades de l'Esplai: Sant Feliu i Castell de Montbui
LOCATION:
METHOD:PUBLISH
X-WR-CALNAME:caldesm@caldesdemontbui.cat
X-WR-TIMEZONE:Europe/Madrid
DESCRIPTION:
URI:https://www.caldesdemontbui.cat/actualitat/agenda/caminades-de-lesplai-sant-feliu-i-castell-de-montbui.html
CLASS:PUBLIC
END:VEVENT
END:VCALENDAR
