BEGIN:VCALENDAR
VERSION:2.0
CALSCALE:GREGORIAN
PRODID:-//Diputació de Barcelona//DibaCMS//EN
BEGIN:VEVENT
UID:5934
DTSTAMP:20260423T192211
DTSTART:20110612T100000
DTEND:20110612T000000
SUMMARY:Campionat de Catalunya Sub 18 de Futbol Flag  
LOCATION:
METHOD:PUBLISH
X-WR-CALNAME:caldesm@caldesdemontbui.cat
X-WR-TIMEZONE:Europe/Madrid
DESCRIPTION:
URI:https://www.caldesdemontbui.cat/actualitat/agenda/campionat-de-catalunya-sub-18-de-futbol-flag--.html
CLASS:PUBLIC
END:VEVENT
END:VCALENDAR
