BEGIN:VCALENDAR
VERSION:2.0
CALSCALE:GREGORIAN
PRODID:-//Diputació de Barcelona//DibaCMS//EN
BEGIN:VEVENT
UID:5932
DTSTAMP:20260423T105926
DTSTART:20110611T170000
DTEND:20110611T000000
SUMMARY:Aplec de Sardanes i sopar 
LOCATION:
METHOD:PUBLISH
X-WR-CALNAME:caldesm@caldesdemontbui.cat
X-WR-TIMEZONE:Europe/Madrid
DESCRIPTION:
URI:https://www.caldesdemontbui.cat/actualitat/agenda/aplec-de-sardanes-i-sopar-.html
CLASS:PUBLIC
END:VEVENT
END:VCALENDAR
