BEGIN:VCALENDAR
VERSION:2.0
CALSCALE:GREGORIAN
PRODID:-//Diputació de Barcelona//DibaCMS//EN
BEGIN:VEVENT
UID:5930
DTSTAMP:20260423T035854
DTSTART:20110611T000000
DTEND:20110613T000000
SUMMARY:Travessa pel Pirineu. Pujada a la Pica d'Estats
LOCATION:
METHOD:PUBLISH
X-WR-CALNAME:caldesm@caldesdemontbui.cat
X-WR-TIMEZONE:Europe/Madrid
DESCRIPTION:
URI:https://www.caldesdemontbui.cat/actualitat/agenda/travessa-pel-pirineu-pujada-a-la-pica-destats.html
CLASS:PUBLIC
END:VEVENT
END:VCALENDAR
