BEGIN:VCALENDAR
VERSION:2.0
CALSCALE:GREGORIAN
PRODID:-//Diputació de Barcelona//DibaCMS//EN
BEGIN:VEVENT
UID:5929
DTSTAMP:20260423T040551
DTSTART:20110610T213000
DTEND:20110610T000000
SUMMARY:Jornades gastronòmiques de les cireres: sopar concert al Violeta de Caldes
LOCATION:
METHOD:PUBLISH
X-WR-CALNAME:caldesm@caldesdemontbui.cat
X-WR-TIMEZONE:Europe/Madrid
DESCRIPTION:
URI:https://www.caldesdemontbui.cat/actualitat/agenda/jornades-gastronomiques-de-les-cireres-sopar-concert-al-violeta-de-caldes.html
CLASS:PUBLIC
END:VEVENT
END:VCALENDAR
