BEGIN:VCALENDAR
VERSION:2.0
CALSCALE:GREGORIAN
PRODID:-//Diputació de Barcelona//DibaCMS//EN
BEGIN:VEVENT
UID:5928
DTSTAMP:20260423T073304
DTSTART:20110610T193000
DTEND:20110610T000000
SUMMARY:Afavorir la responsabilitat dels infants o sobreprotegir-los?
LOCATION:
METHOD:PUBLISH
X-WR-CALNAME:caldesm@caldesdemontbui.cat
X-WR-TIMEZONE:Europe/Madrid
DESCRIPTION:
URI:https://www.caldesdemontbui.cat/actualitat/agenda/afavorir-la-responsabilitat-dels-infants-o-sobreprotegir-los.html
CLASS:PUBLIC
END:VEVENT
END:VCALENDAR
