BEGIN:VCALENDAR
VERSION:2.0
CALSCALE:GREGORIAN
PRODID:-//Diputació de Barcelona//DibaCMS//EN
BEGIN:VEVENT
UID:5927
DTSTAMP:20260423T210313
DTSTART:20110610T190000
DTEND:20110610T000000
SUMMARY:Inauguració de l'exposició amb motiu dels 30 anys del Taller d'Art Municipal Manolo Hugué. Fins el 27 de juny
LOCATION:
METHOD:PUBLISH
X-WR-CALNAME:caldesm@caldesdemontbui.cat
X-WR-TIMEZONE:Europe/Madrid
DESCRIPTION:
URI:https://www.caldesdemontbui.cat/actualitat/agenda/inauguracio-de-lexposicio-amb-motiu-dels-30-anys-del-taller-dart-municipal-manolo-hugue-fins-el-27-de-juny.html
CLASS:PUBLIC
END:VEVENT
END:VCALENDAR
