BEGIN:VCALENDAR
VERSION:2.0
CALSCALE:GREGORIAN
PRODID:-//Diputació de Barcelona//DibaCMS//EN
BEGIN:VEVENT
UID:5926
DTSTAMP:20260424T064826
DTSTART:20110610T190000
DTEND:20110610T000000
SUMMARY:Inauració de l'exposició "Flors", del grup de patchwork de la Cooperativa 70
LOCATION:
METHOD:PUBLISH
X-WR-CALNAME:caldesm@caldesdemontbui.cat
X-WR-TIMEZONE:Europe/Madrid
DESCRIPTION:
URI:https://www.caldesdemontbui.cat/actualitat/agenda/inauracio-de-lexposicio-flors-del-grup-de-patchwork-de-la-cooperativa-70.html
CLASS:PUBLIC
END:VEVENT
END:VCALENDAR
