BEGIN:VCALENDAR
VERSION:2.0
CALSCALE:GREGORIAN
PRODID:-//Diputació de Barcelona//DibaCMS//EN
BEGIN:VEVENT
UID:5923
DTSTAMP:20260423T005335
DTSTART:20110608T160000
DTEND:20110608T000000
SUMMARY:Xerrada: Què saps del teu poble?
LOCATION:
METHOD:PUBLISH
X-WR-CALNAME:caldesm@caldesdemontbui.cat
X-WR-TIMEZONE:Europe/Madrid
DESCRIPTION:
URI:https://www.caldesdemontbui.cat/actualitat/agenda/xerrada-que-saps-del-teu-poble.html
CLASS:PUBLIC
END:VEVENT
END:VCALENDAR
