BEGIN:VCALENDAR
VERSION:2.0
CALSCALE:GREGORIAN
PRODID:-//Diputació de Barcelona//DibaCMS//EN
BEGIN:VEVENT
UID:5920
DTSTAMP:20260423T042547
DTSTART:20110608T080000
DTEND:20110608T000000
SUMMARY:Caminades de l'Esplai: La Borda, les basses del Flaqué, Can Camp i Camp de Golf
LOCATION:
METHOD:PUBLISH
X-WR-CALNAME:caldesm@caldesdemontbui.cat
X-WR-TIMEZONE:Europe/Madrid
DESCRIPTION:
URI:https://www.caldesdemontbui.cat/actualitat/agenda/caminades-de-lesplai-la-borda-les-basses-del-flaque-can-camp-i-camp-de-golf.html
CLASS:PUBLIC
END:VEVENT
END:VCALENDAR
