BEGIN:VCALENDAR
VERSION:2.0
CALSCALE:GREGORIAN
PRODID:-//Diputació de Barcelona//DibaCMS//EN
BEGIN:VEVENT
UID:5914
DTSTAMP:20260423T094901
DTSTART:20110601T074000
DTEND:20110601T000000
SUMMARY:Caminades de l'Esplai: Sentmenat, la Font d'en Bou
LOCATION:
METHOD:PUBLISH
X-WR-CALNAME:caldesm@caldesdemontbui.cat
X-WR-TIMEZONE:Europe/Madrid
DESCRIPTION:
URI:https://www.caldesdemontbui.cat/actualitat/agenda/caminades-de-lesplai-sentmenat-la-font-den-bou.html
CLASS:PUBLIC
END:VEVENT
END:VCALENDAR
