BEGIN:VCALENDAR
VERSION:2.0
CALSCALE:GREGORIAN
PRODID:-//Diputació de Barcelona//DibaCMS//EN
BEGIN:VEVENT
UID:5912
DTSTAMP:20260423T160404
DTSTART:20110531T173000
DTEND:20110531T000000
SUMMARY:Taller d'automaquillatge (cal inscripció prèvia)
LOCATION:
METHOD:PUBLISH
X-WR-CALNAME:caldesm@caldesdemontbui.cat
X-WR-TIMEZONE:Europe/Madrid
DESCRIPTION:
URI:https://www.caldesdemontbui.cat/actualitat/agenda/taller-dautomaquillatge-cal-inscripcio-previa.html
CLASS:PUBLIC
END:VEVENT
END:VCALENDAR
