BEGIN:VCALENDAR
VERSION:2.0
CALSCALE:GREGORIAN
PRODID:-//Diputació de Barcelona//DibaCMS//EN
BEGIN:VEVENT
UID:5911
DTSTAMP:20260423T150234
DTSTART:20110530T190000
DTEND:20110530T000000
SUMMARY:Club de lectura: Els rebels, de Sándor Márai
LOCATION:
METHOD:PUBLISH
X-WR-CALNAME:caldesm@caldesdemontbui.cat
X-WR-TIMEZONE:Europe/Madrid
DESCRIPTION:
URI:https://www.caldesdemontbui.cat/actualitat/agenda/club-de-lectura-els-rebels-de-sandor-marai.html
CLASS:PUBLIC
END:VEVENT
END:VCALENDAR
