BEGIN:VCALENDAR
VERSION:2.0
CALSCALE:GREGORIAN
PRODID:-//Diputació de Barcelona//DibaCMS//EN
BEGIN:VEVENT
UID:5906
DTSTAMP:20260423T023746
DTSTART:20110529T140000
DTEND:20110529T000000
SUMMARY:El Centre reobre les portes: Arrossada Popular (tiquets anticipats al Cafè Cultural del Centre)
LOCATION:
METHOD:PUBLISH
X-WR-CALNAME:caldesm@caldesdemontbui.cat
X-WR-TIMEZONE:Europe/Madrid
DESCRIPTION:
URI:https://www.caldesdemontbui.cat/actualitat/agenda/el-centre-reobre-les-portes-arrossada-popular-tiquets-anticipats-al-cafe-cultural-del-centre.html
CLASS:PUBLIC
END:VEVENT
END:VCALENDAR
