BEGIN:VCALENDAR
VERSION:2.0
CALSCALE:GREGORIAN
PRODID:-//Diputació de Barcelona//DibaCMS//EN
BEGIN:VEVENT
UID:5903
DTSTAMP:20260423T110000
DTSTART:20110529T100000
DTEND:20110529T000000
SUMMARY:I Cursa Bombers Voluntaris Caldes de Montbui 
LOCATION:
METHOD:PUBLISH
X-WR-CALNAME:caldesm@caldesdemontbui.cat
X-WR-TIMEZONE:Europe/Madrid
DESCRIPTION:
URI:https://www.caldesdemontbui.cat/actualitat/agenda/i-cursa-bombers-voluntaris-caldes-de-montbui-.html
CLASS:PUBLIC
END:VEVENT
END:VCALENDAR
