BEGIN:VCALENDAR
VERSION:2.0
CALSCALE:GREGORIAN
PRODID:-//Diputació de Barcelona//DibaCMS//EN
BEGIN:VEVENT
UID:5902
DTSTAMP:20260423T023851
DTSTART:20110529T090000
DTEND:20110529T000000
SUMMARY:Matina ornitològica
LOCATION:
METHOD:PUBLISH
X-WR-CALNAME:caldesm@caldesdemontbui.cat
X-WR-TIMEZONE:Europe/Madrid
DESCRIPTION:
URI:https://www.caldesdemontbui.cat/actualitat/agenda/matina-ornitologica.html
CLASS:PUBLIC
END:VEVENT
END:VCALENDAR
