BEGIN:VCALENDAR
VERSION:2.0
CALSCALE:GREGORIAN
PRODID:-//Diputació de Barcelona//DibaCMS//EN
BEGIN:VEVENT
UID:5901
DTSTAMP:20260423T123928
DTSTART:20110528T233000
DTEND:20110528T000000
SUMMARY:El Centre reobre les portes: Sessió de música a càrrec de TRIMENIDJS
LOCATION:
METHOD:PUBLISH
X-WR-CALNAME:caldesm@caldesdemontbui.cat
X-WR-TIMEZONE:Europe/Madrid
DESCRIPTION:
URI:https://www.caldesdemontbui.cat/actualitat/agenda/el-centre-reobre-les-portes-sessio-de-msica-a-carrec-de-trimenidjs.html
CLASS:PUBLIC
END:VEVENT
END:VCALENDAR
