BEGIN:VCALENDAR
VERSION:2.0
CALSCALE:GREGORIAN
PRODID:-//Diputació de Barcelona//DibaCMS//EN
BEGIN:VEVENT
UID:5899
DTSTAMP:20260423T061228
DTSTART:20110528T183000
DTEND:20110528T000000
SUMMARY:El Centre reobre les portes: Berenar a càrrec de la Cooperativa de Consum Ecològic "El Rusc"
LOCATION:
METHOD:PUBLISH
X-WR-CALNAME:caldesm@caldesdemontbui.cat
X-WR-TIMEZONE:Europe/Madrid
DESCRIPTION:
URI:https://www.caldesdemontbui.cat/actualitat/agenda/el-centre-reobre-les-portes-berenar-a-carrec-de-la-cooperativa-de-consum-ecologic-el-rusc.html
CLASS:PUBLIC
END:VEVENT
END:VCALENDAR
