BEGIN:VCALENDAR
VERSION:2.0
CALSCALE:GREGORIAN
PRODID:-//Diputació de Barcelona//DibaCMS//EN
BEGIN:VEVENT
UID:5897
DTSTAMP:20260423T113708
DTSTART:20110528T130000
DTEND:20110528T000000
SUMMARY:El Centre reobre les portes: Concert Vermut, amb el duet de Jazz Condal i Riera
LOCATION:
METHOD:PUBLISH
X-WR-CALNAME:caldesm@caldesdemontbui.cat
X-WR-TIMEZONE:Europe/Madrid
DESCRIPTION:
URI:https://www.caldesdemontbui.cat/actualitat/agenda/el-centre-reobre-les-portes-concert-vermut-amb-el-duet-de-jazz-condal-i-riera.html
CLASS:PUBLIC
END:VEVENT
END:VCALENDAR
