BEGIN:VCALENDAR
VERSION:2.0
CALSCALE:GREGORIAN
PRODID:-//Diputació de Barcelona//DibaCMS//EN
BEGIN:VEVENT
UID:5895
DTSTAMP:20260423T054517
DTSTART:20110528T110000
DTEND:20110528T130000
SUMMARY:Celebració del 50è aniversari d'Amnistia Internacional. Acte obert a la ciutadania
LOCATION:
METHOD:PUBLISH
X-WR-CALNAME:caldesm@caldesdemontbui.cat
X-WR-TIMEZONE:Europe/Madrid
DESCRIPTION:
URI:https://www.caldesdemontbui.cat/actualitat/agenda/celebracio-del-50e-aniversari-damnistia-internacional-acte-obert-a-la-ciutadania.html
CLASS:PUBLIC
END:VEVENT
END:VCALENDAR
