BEGIN:VCALENDAR
VERSION:2.0
CALSCALE:GREGORIAN
PRODID:-//Diputació de Barcelona//DibaCMS//EN
BEGIN:VEVENT
UID:5894
DTSTAMP:20260423T024218
DTSTART:20110528T100000
DTEND:20110528T000000
SUMMARY:El Centre reobre les portes: Jocs Gegants per la mainada
LOCATION:
METHOD:PUBLISH
X-WR-CALNAME:caldesm@caldesdemontbui.cat
X-WR-TIMEZONE:Europe/Madrid
DESCRIPTION:
URI:https://www.caldesdemontbui.cat/actualitat/agenda/el-centre-reobre-les-portes-jocs-gegants-per-la-mainada.html
CLASS:PUBLIC
END:VEVENT
END:VCALENDAR
