BEGIN:VCALENDAR
VERSION:2.0
CALSCALE:GREGORIAN
PRODID:-//Diputació de Barcelona//DibaCMS//EN
BEGIN:VEVENT
UID:5892
DTSTAMP:20260423T024120
DTSTART:20110527T200000
DTEND:20110527T000000
SUMMARY:Reobertura de portes del Centre, Ateneu Democràtic i Progressista 
LOCATION:
METHOD:PUBLISH
X-WR-CALNAME:caldesm@caldesdemontbui.cat
X-WR-TIMEZONE:Europe/Madrid
DESCRIPTION:
URI:https://www.caldesdemontbui.cat/actualitat/agenda/reobertura-de-portes-del-centre-ateneu-democratic-i-progressista-.html
CLASS:PUBLIC
END:VEVENT
END:VCALENDAR
