BEGIN:VCALENDAR
VERSION:2.0
CALSCALE:GREGORIAN
PRODID:-//Diputació de Barcelona//DibaCMS//EN
BEGIN:VEVENT
UID:5891
DTSTAMP:20260423T024029
DTSTART:20110527T200000
DTEND:20110527T000000
SUMMARY:Presentació del llibre 'Història de l'Escola Montbui' (Cloenda dels actes del cinquantenari)
LOCATION:
METHOD:PUBLISH
X-WR-CALNAME:caldesm@caldesdemontbui.cat
X-WR-TIMEZONE:Europe/Madrid
DESCRIPTION:
URI:https://www.caldesdemontbui.cat/actualitat/agenda/presentacio-del-llibre-historia-de-lescola-montbui-cloenda-dels-actes-del-cinquantenari.html
CLASS:PUBLIC
END:VEVENT
END:VCALENDAR
