BEGIN:VCALENDAR
VERSION:2.0
CALSCALE:GREGORIAN
PRODID:-//Diputació de Barcelona//DibaCMS//EN
BEGIN:VEVENT
UID:5889
DTSTAMP:20260423T182659
DTSTART:20110527T180000
DTEND:20110527T000000
SUMMARY:Hora del conte: Anem a contar mentides
LOCATION:
METHOD:PUBLISH
X-WR-CALNAME:caldesm@caldesdemontbui.cat
X-WR-TIMEZONE:Europe/Madrid
DESCRIPTION:
URI:https://www.caldesdemontbui.cat/actualitat/agenda/hora-del-conte-anem-a-contar-mentides.html
CLASS:PUBLIC
END:VEVENT
END:VCALENDAR
