BEGIN:VCALENDAR
VERSION:2.0
CALSCALE:GREGORIAN
PRODID:-//Diputació de Barcelona//DibaCMS//EN
BEGIN:VEVENT
UID:5885
DTSTAMP:20260423T060325
DTSTART:20110525T080000
DTEND:20110525T000000
SUMMARY:Caminades de l'Esplai: Palau i parc de l'Hostal del Fum
LOCATION:
METHOD:PUBLISH
X-WR-CALNAME:caldesm@caldesdemontbui.cat
X-WR-TIMEZONE:Europe/Madrid
DESCRIPTION:
URI:https://www.caldesdemontbui.cat/actualitat/agenda/caminades-de-lesplai-palau-i-parc-de-lhostal-del-fum.html
CLASS:PUBLIC
END:VEVENT
END:VCALENDAR
