BEGIN:VCALENDAR
VERSION:2.0
CALSCALE:GREGORIAN
PRODID:-//Diputació de Barcelona//DibaCMS//EN
BEGIN:VEVENT
UID:5884
DTSTAMP:20260423T124042
DTSTART:20110525T000000
DTEND:20110525T000000
SUMMARY:L'exposició "Després de l'ESO, què?", a l'IES Manolo Hugué fins el 31 de maig
LOCATION:
METHOD:PUBLISH
X-WR-CALNAME:caldesm@caldesdemontbui.cat
X-WR-TIMEZONE:Europe/Madrid
DESCRIPTION:
URI:https://www.caldesdemontbui.cat/actualitat/agenda/lexposicio-despres-de-leso-que-a-lies-manolo-hugue-fins-el-31-de-maig.html
CLASS:PUBLIC
END:VEVENT
END:VCALENDAR
