BEGIN:VCALENDAR
VERSION:2.0
CALSCALE:GREGORIAN
PRODID:-//Diputació de Barcelona//DibaCMS//EN
BEGIN:VEVENT
UID:5883
DTSTAMP:20260423T054608
DTSTART:20110524T190000
DTEND:20110524T000000
SUMMARY:Xerrada "Les responsabilitats dels Administradors d'Empreses"
LOCATION:
METHOD:PUBLISH
X-WR-CALNAME:caldesm@caldesdemontbui.cat
X-WR-TIMEZONE:Europe/Madrid
DESCRIPTION:
URI:https://www.caldesdemontbui.cat/actualitat/agenda/xerrada-les-responsabilitats-dels-administradors-dempreses.html
CLASS:PUBLIC
END:VEVENT
END:VCALENDAR
