BEGIN:VCALENDAR
VERSION:2.0
CALSCALE:GREGORIAN
PRODID:-//Diputació de Barcelona//DibaCMS//EN
BEGIN:VEVENT
UID:5881
DTSTAMP:20260423T055935
DTSTART:20110521T193000
DTEND:20110521T000000
SUMMARY:Concert de tastets dels alumnes de 1r Preparatori i dels alumnes d'inici d'instrument 
LOCATION:
METHOD:PUBLISH
X-WR-CALNAME:caldesm@caldesdemontbui.cat
X-WR-TIMEZONE:Europe/Madrid
DESCRIPTION:
URI:https://www.caldesdemontbui.cat/actualitat/agenda/concert-de-tastets-dels-alumnes-de-1r-preparatori-i-dels-alumnes-dinici-dinstrument-.html
CLASS:PUBLIC
END:VEVENT
END:VCALENDAR
