BEGIN:VCALENDAR
VERSION:2.0
CALSCALE:GREGORIAN
PRODID:-//Diputació de Barcelona//DibaCMS//EN
BEGIN:VEVENT
UID:5880
DTSTAMP:20260423T110156
DTSTART:20110520T190000
DTEND:20110520T000000
SUMMARY:Inauguració de l'exposició: Poemes de Miguel Hernández. Reflexió de Pilar Masip
LOCATION:
METHOD:PUBLISH
X-WR-CALNAME:caldesm@caldesdemontbui.cat
X-WR-TIMEZONE:Europe/Madrid
DESCRIPTION:
URI:https://www.caldesdemontbui.cat/actualitat/agenda/inauguracio-de-lexposicio-poemes-de-miguel-hernandez-reflexio-de-pilar-masip.html
CLASS:PUBLIC
END:VEVENT
END:VCALENDAR
