BEGIN:VCALENDAR
VERSION:2.0
CALSCALE:GREGORIAN
PRODID:-//Diputació de Barcelona//DibaCMS//EN
BEGIN:VEVENT
UID:5878
DTSTAMP:20260423T021322
DTSTART:20110519T160000
DTEND:20110519T000000
SUMMARY:Jornades envelliment actiu i saludable: Com envellim en la nostra societat
LOCATION:
METHOD:PUBLISH
X-WR-CALNAME:caldesm@caldesdemontbui.cat
X-WR-TIMEZONE:Europe/Madrid
DESCRIPTION:
URI:https://www.caldesdemontbui.cat/actualitat/agenda/jornades-envelliment-actiu-i-saludable-com-envellim-en-la-nostra-societat.html
CLASS:PUBLIC
END:VEVENT
END:VCALENDAR
