BEGIN:VCALENDAR
VERSION:2.0
CALSCALE:GREGORIAN
PRODID:-//Diputació de Barcelona//DibaCMS//EN
BEGIN:VEVENT
UID:5874
DTSTAMP:20260424T071312
DTSTART:20110518T080000
DTEND:20110518T000000
SUMMARY:Caminades de l'Esplai: Prat de baix i Elies
LOCATION:
METHOD:PUBLISH
X-WR-CALNAME:caldesm@caldesdemontbui.cat
X-WR-TIMEZONE:Europe/Madrid
DESCRIPTION:
URI:https://www.caldesdemontbui.cat/actualitat/agenda/caminades-de-lesplai-prat-de-baix-i-elies.html
CLASS:PUBLIC
END:VEVENT
END:VCALENDAR
