BEGIN:VCALENDAR
VERSION:2.0
CALSCALE:GREGORIAN
PRODID:-//Diputació de Barcelona//DibaCMS//EN
BEGIN:VEVENT
UID:5872
DTSTAMP:20260423T021738
DTSTART:20110516T000000
DTEND:20110516T000000
SUMMARY:Inici de la reserva de places: Colònies gent gran
LOCATION:
METHOD:PUBLISH
X-WR-CALNAME:caldesm@caldesdemontbui.cat
X-WR-TIMEZONE:Europe/Madrid
DESCRIPTION:
URI:https://www.caldesdemontbui.cat/actualitat/agenda/inici-de-la-reserva-de-places-colonies-gent-gran.html
CLASS:PUBLIC
END:VEVENT
END:VCALENDAR
