BEGIN:VCALENDAR
VERSION:2.0
CALSCALE:GREGORIAN
PRODID:-//Diputació de Barcelona//DibaCMS//EN
BEGIN:VEVENT
UID:5868
DTSTAMP:20260423T040017
DTSTART:20110513T180000
DTEND:20110513T000000
SUMMARY:Obra: Patufet (en el marc de la Fira de Titellaires Romà Martí)
LOCATION:
METHOD:PUBLISH
X-WR-CALNAME:caldesm@caldesdemontbui.cat
X-WR-TIMEZONE:Europe/Madrid
DESCRIPTION:
URI:https://www.caldesdemontbui.cat/actualitat/agenda/obra-patufet-en-el-marc-de-la-fira-de-titellaires-roma-marti.html
CLASS:PUBLIC
END:VEVENT
END:VCALENDAR
