BEGIN:VCALENDAR
VERSION:2.0
CALSCALE:GREGORIAN
PRODID:-//Diputació de Barcelona//DibaCMS//EN
BEGIN:VEVENT
UID:5864
DTSTAMP:20260422T201137
DTSTART:20110512T193000
DTEND:20110512T000000
SUMMARY:Cicle "Persona, família i societat": Com posar límits als fills
LOCATION:
METHOD:PUBLISH
X-WR-CALNAME:caldesm@caldesdemontbui.cat
X-WR-TIMEZONE:Europe/Madrid
DESCRIPTION:
URI:https://www.caldesdemontbui.cat/actualitat/agenda/cicle-persona-familia-i-societat-com-posar-limits-als-fills.html
CLASS:PUBLIC
END:VEVENT
END:VCALENDAR
