BEGIN:VCALENDAR
VERSION:2.0
CALSCALE:GREGORIAN
PRODID:-//Diputació de Barcelona//DibaCMS//EN
BEGIN:VEVENT
UID:5863
DTSTAMP:20260423T005211
DTSTART:20110512T190000
DTEND:20110512T000000
SUMMARY:Inici del curs de Tai-txi (envelliment actiu i saludable)
LOCATION:
METHOD:PUBLISH
X-WR-CALNAME:caldesm@caldesdemontbui.cat
X-WR-TIMEZONE:Europe/Madrid
DESCRIPTION:
URI:https://www.caldesdemontbui.cat/actualitat/agenda/inici-del-curs-de-tai-txi-envelliment-actiu-i-saludable.html
CLASS:PUBLIC
END:VEVENT
END:VCALENDAR
