BEGIN:VCALENDAR
VERSION:2.0
CALSCALE:GREGORIAN
PRODID:-//Diputació de Barcelona//DibaCMS//EN
BEGIN:VEVENT
UID:5862
DTSTAMP:20260423T164744
DTSTART:20110511T210000
DTEND:20110511T000000
SUMMARY:Debat electoral a la Sala de Plens de l'Ajuntament
LOCATION:
METHOD:PUBLISH
X-WR-CALNAME:caldesm@caldesdemontbui.cat
X-WR-TIMEZONE:Europe/Madrid
DESCRIPTION:
URI:https://www.caldesdemontbui.cat/actualitat/agenda/debat-electoral-a-la-sala-de-plens-de-lajuntament.html
CLASS:PUBLIC
END:VEVENT
END:VCALENDAR
