BEGIN:VCALENDAR
VERSION:2.0
CALSCALE:GREGORIAN
PRODID:-//Diputació de Barcelona//DibaCMS//EN
BEGIN:VEVENT
UID:5861
DTSTAMP:20260423T040638
DTSTART:20110511T190000
DTEND:20110511T000000
SUMMARY:Concert de guitarra a càrrec de Rafel Sala 
LOCATION:
METHOD:PUBLISH
X-WR-CALNAME:caldesm@caldesdemontbui.cat
X-WR-TIMEZONE:Europe/Madrid
DESCRIPTION:
URI:https://www.caldesdemontbui.cat/actualitat/agenda/concert-de-guitarra-a-carrec-de-rafel-sala-.html
CLASS:PUBLIC
END:VEVENT
END:VCALENDAR
