BEGIN:VCALENDAR
VERSION:2.0
CALSCALE:GREGORIAN
PRODID:-//Diputació de Barcelona//DibaCMS//EN
BEGIN:VEVENT
UID:5860
DTSTAMP:20260424T034830
DTSTART:20110511T171500
DTEND:20110511T000000
SUMMARY:Ens traslladem: procés participatiu sobre el futur del Toc
LOCATION:
METHOD:PUBLISH
X-WR-CALNAME:caldesm@caldesdemontbui.cat
X-WR-TIMEZONE:Europe/Madrid
DESCRIPTION:
URI:https://www.caldesdemontbui.cat/actualitat/agenda/ens-traslladem-proces-participatiu-sobre-el-futur-del-toc.html
CLASS:PUBLIC
END:VEVENT
END:VCALENDAR
