BEGIN:VCALENDAR
VERSION:2.0
CALSCALE:GREGORIAN
PRODID:-//Diputació de Barcelona//DibaCMS//EN
BEGIN:VEVENT
UID:5859
DTSTAMP:20260423T024327
DTSTART:20110511T160000
DTEND:20110511T000000
SUMMARY:Xerrada: Indrets històrics de Caldes
LOCATION:
METHOD:PUBLISH
X-WR-CALNAME:caldesm@caldesdemontbui.cat
X-WR-TIMEZONE:Europe/Madrid
DESCRIPTION:
URI:https://www.caldesdemontbui.cat/actualitat/agenda/xerrada-indrets-historics-de-caldes.html
CLASS:PUBLIC
END:VEVENT
END:VCALENDAR
